BEGIN:VCALENDAR
VERSION:2.0
PRODID:-//hendersonhabitat.org//NONSGML kigkonsult.se iCalcreator 2.30.10//
CALSCALE:GREGORIAN
METHOD:PUBLISH
UID:69ab3148-548e-4f68-ad6f-58dfc128976a
X-WR-CALDESC:We did not think we could beat last years amazing bourbon raff
 le event\, but we believe we have and cannot wait for you to see the 2025 
 Bourbon Raffle Line-Up!!! This will mark our 10th bourbon raffle we have h
 osted and with more affordable homes to build than ever\, we need your hel
 p to make this another sell out year!  Stay tuned for the reveal coming ou
 t in June!  Tickets set to go on sale July 1st! Join our email list to be 
 the first to see this years line up!\n\nIf you would like to be on the ema
 il and text list to be one of the first to know what will be in this years
  bourbon prize packages\, just email shadley@hendersonhabitat.org
X-WR-RELCALID:d635120923f164ebde3242380142a84b
X-WR-TIMEZONE:America/Chicago
BEGIN:VTIMEZONE
TZID:America/Chicago
BEGIN:STANDARD
TZNAME:CST
DTSTART:20241103T020000
TZOFFSETFROM:-0500
TZOFFSETTO:-0600
RDATE:20251102T020000
RDATE:20261101T020000
END:STANDARD
BEGIN:DAYLIGHT
TZNAME:CDT
DTSTART:20250309T020000
TZOFFSETFROM:-0600
TZOFFSETTO:-0500
RDATE:20260308T020000
END:DAYLIGHT
END:VTIMEZONE
BEGIN:VEVENT
UID:f1e744f5-c8cb-4110-88ad-c106e775f653
DTSTAMP:20260421T095821Z
DESCRIPTION:We did not think we could beat last years amazing bourbon raffl
 e event\, but we believe we have and cannot wait for you to see the 2025 B
 ourbon Raffle Line-Up!!! This will mark our 10th bourbon raffle we have ho
 sted and with more affordable homes to build than ever\, we need your help
  to make this another sell out year!  Stay tuned for the reveal coming out
  in June!  Tickets set to go on sale July 1st! Join our email list to be t
 he first to see this years line up!\n\nIf you would like to be on the emai
 l and text list to be one of the first to know what will be in this years 
 bourbon prize packages\, just email shadley@hendersonhabitat.org
DTSTART;TZID=America/Chicago:20250701T110000
DTEND;TZID=America/Chicago:20250831T160000
LOCATION:1030 Third St\, Henderson\, AL 42420 US
SUMMARY:Raise a Glass\, Raise a House Bourbon Raffle Event 2025
END:VEVENT
END:VCALENDAR
