BEGIN:VCALENDAR
VERSION:2.0
PRODID:-//hendersonhabitat.org//NONSGML kigkonsult.se iCalcreator 2.30.10//
CALSCALE:GREGORIAN
METHOD:PUBLISH
UID:2dd64413-3931-4387-ac29-60e2b87cddbb
X-WR-CALDESC:Housing applications for 2 select homes (a 2bed/1b in Henderso
 n and 3bed/1b in Corydon area) will be accepted until these 2 spots are fi
 lled. Applications can be picked up at the Henderson Habitat ReStore and a
 t Corydon Hall. Deadline to turn in application is June 25th @ noon.
X-WR-RELCALID:bd530a5768b79804f805d622ca1462d4
X-WR-TIMEZONE:America/New_York
BEGIN:VTIMEZONE
TZID:America/New_York
BEGIN:STANDARD
TZNAME:EST
DTSTART:20241103T020000
TZOFFSETFROM:-0400
TZOFFSETTO:-0500
RDATE:20251102T020000
RDATE:20261101T020000
END:STANDARD
BEGIN:DAYLIGHT
TZNAME:EDT
DTSTART:20250309T020000
TZOFFSETFROM:-0500
TZOFFSETTO:-0400
RDATE:20260308T020000
END:DAYLIGHT
END:VTIMEZONE
BEGIN:VEVENT
UID:e9571ffa-1f77-4afd-accf-269d5478a214
DTSTAMP:20260421T130547Z
DESCRIPTION:Housing applications for 2 select homes (a 2bed/1b in Henderson
  and 3bed/1b in Corydon area) will be accepted until these 2 spots are fil
 led. Applications can be picked up at the Henderson Habitat ReStore and at
  Corydon Hall. Deadline to turn in application is June 25th @ noon.
DTSTART;TZID=America/New_York:20250602T173000
DTEND;TZID=America/New_York:20250625T120000
LOCATION:1030 Third St\, Henderson\, KY 42420 US
SUMMARY:2025 Open Housing Applications
END:VEVENT
END:VCALENDAR
