BEGIN:VCALENDAR
VERSION:2.0
PRODID:-//hendersonhabitat.org//NONSGML kigkonsult.se iCalcreator 2.30.10//
CALSCALE:GREGORIAN
METHOD:PUBLISH
UID:848be4cb-f785-4c47-88fd-c1bb11babb8d
X-WR-CALDESC:Come help us dedicate our #85th Habitat home to Ms. Sierra Par
 kman!  She has been ready for this day and we cannot wait to welcome her h
 ome!
X-WR-RELCALID:6cdccb986d22ac3ab74884c7e1a0b8ad
X-WR-TIMEZONE:America/Chicago
BEGIN:VTIMEZONE
TZID:America/Chicago
BEGIN:STANDARD
TZNAME:CST
DTSTART:20241103T020000
TZOFFSETFROM:-0500
TZOFFSETTO:-0600
RDATE:20251102T020000
END:STANDARD
BEGIN:DAYLIGHT
TZNAME:CDT
DTSTART:20240310T020000
TZOFFSETFROM:-0600
TZOFFSETTO:-0500
RDATE:20250309T020000
RDATE:20260308T020000
END:DAYLIGHT
END:VTIMEZONE
BEGIN:VEVENT
UID:1711763b-a338-4595-a5d8-7289228b2320
DTSTAMP:20260421T233355Z
DESCRIPTION:Come help us dedicate our #85th Habitat home to Ms. Sierra Park
 man!  She has been ready for this day and we cannot wait to welcome her ho
 me!
DTSTART;TZID=America/Chicago:20241122T120000
DTEND;TZID=America/Chicago:20241122T130000
LOCATION:1104 Burris St\, Henderson\, KY 42420 US
SUMMARY:Parker Family Closing and Dedication Day!
END:VEVENT
END:VCALENDAR
