BEGIN:VCALENDAR
VERSION:2.0
PRODID:-//hendersonhabitat.org//NONSGML kigkonsult.se iCalcreator 2.30.10//
CALSCALE:GREGORIAN
METHOD:PUBLISH
UID:0de2980b-abf7-4700-8d90-37698badf866
X-WR-CALDESC:Henderson Habitat for Humanity is closing on house #84! We are
  so happy to be completing another home in time for the family to decorate
  and celebrate for the upcoming holidays!
X-WR-RELCALID:18387c7b2a5d05ffd9e2e9ec558037ec
X-WR-TIMEZONE:America/Chicago
BEGIN:VTIMEZONE
TZID:America/Chicago
BEGIN:STANDARD
TZNAME:CST
DTSTART:20241103T020000
TZOFFSETFROM:-0500
TZOFFSETTO:-0600
RDATE:20251102T020000
END:STANDARD
BEGIN:DAYLIGHT
TZNAME:CDT
DTSTART:20240310T020000
TZOFFSETFROM:-0600
TZOFFSETTO:-0500
RDATE:20250309T020000
RDATE:20260308T020000
END:DAYLIGHT
END:VTIMEZONE
BEGIN:VEVENT
UID:54533244-6e3c-4668-b359-b9c0a294538a
DTSTAMP:20260421T233524Z
DESCRIPTION:Henderson Habitat for Humanity is closing on house #84! We are 
 so happy to be completing another home in time for the family to decorate 
 and celebrate for the upcoming holidays!
DTSTART;TZID=America/Chicago:20241115T120000
DTEND;TZID=America/Chicago:20241115T130000
LOCATION:1028 Pringle St\, Henderson\, KY 42420 US
SUMMARY:Walker Family Dedication Event
END:VEVENT
END:VCALENDAR
