BEGIN:VCALENDAR
VERSION:2.0
PRODID:-//hendersonhabitat.org//NONSGML kigkonsult.se iCalcreator 2.30.10//
CALSCALE:GREGORIAN
METHOD:PUBLISH
UID:ff3e1fc3-a6ec-4fcc-819d-6531155a62bb
X-WR-CALDESC:Don't miss out on getting your tickets for our BIGGEST AND BES
 T BOURBON RAFFLE TO DATE!
X-WR-RELCALID:57a308b7c14439980bde2c77ee26715f
X-WR-TIMEZONE:America/Chicago
BEGIN:VTIMEZONE
TZID:America/Chicago
BEGIN:STANDARD
TZNAME:CST
DTSTART:20231105T020000
TZOFFSETFROM:-0500
TZOFFSETTO:-0600
RDATE:20241103T020000
RDATE:20251102T020000
END:STANDARD
BEGIN:DAYLIGHT
TZNAME:CDT
DTSTART:20240310T020000
TZOFFSETFROM:-0600
TZOFFSETTO:-0500
RDATE:20250309T020000
END:DAYLIGHT
END:VTIMEZONE
BEGIN:VEVENT
UID:e90a9018-d044-4978-a5ad-c408a64a6db5
DTSTAMP:20260422T033957Z
DESCRIPTION:Don't miss out on getting your tickets for our BIGGEST AND BEST
  BOURBON RAFFLE TO DATE!
DTSTART;TZID=America/Chicago:20240701T080000
DTEND;TZID=America/Chicago:20240920T170000
LOCATION:1030 3rd St\, Henderson\, KY 42420 US
SUMMARY:2024 Ky Bourbon Raffle
END:VEVENT
END:VCALENDAR
