BEGIN:VCALENDAR
VERSION:2.0
PRODID:-//hendersonhabitat.org//NONSGML kigkonsult.se iCalcreator 2.30.10//
CALSCALE:GREGORIAN
METHOD:PUBLISH
UID:ea59c0ab-99d3-496a-a879-b29788004b9b
X-WR-CALDESC:The 33rd Annual Breakfast Lions Club Tri-Fest 5K Run/Walk bene
 fiting Habitat for Humanity of Henderson\, KY will be on Saturday\, April 
 20\, 2024. This race will take place at Central Park downtown by the river
 front and will start at 8am/cst  rain or shine!  This is a certified 5K ra
 ce route with unique and custom-made one-of-a-kind medals and awards given
  out after the race. \n* Pre-Registration swag bags include a Limited Edit
 ion 2024 Tri-Fest 5K shirt\, race bib and some pretty cool items from our 
 awesome sponsors while supplies last! \n**Habitat for Humanity will also b
 e hosting the 6th Annual Habi-Tot Trot Kids Dash right before the 5K  @ 7:
 40 for kids ages 7 and under. Kids registration is only $5 and can be done
  online or by 7:30am on race day at the Habi-Tot Trot tent. \nRegistration
  forms can also be emailed by contacting shadley@hendersonhabitat.org or b
 y visiting the Habitat Affiliate office or ReStore located at 1030 3rd St\
 , Henderson\, Ky during normal business hours. All funds raised will go to
 wards building homes and building hope in the community!  If you are inter
 ested in having a booth set up during the race\, volunteering to help with
  blocking streets for the race or wish to know more about becoming a race 
 sponsor\, please contact Shadley Stone\, Director of Development. \nThank 
 you and we can’t wait to see you there!\n
X-WR-RELCALID:3d2a438a9acf4269392d7f14795bab0f
X-WR-TIMEZONE:America/Chicago
BEGIN:VTIMEZONE
TZID:America/Chicago
BEGIN:STANDARD
TZNAME:CST
DTSTART:20231105T020000
TZOFFSETFROM:-0500
TZOFFSETTO:-0600
RDATE:20241103T020000
END:STANDARD
BEGIN:DAYLIGHT
TZNAME:CDT
DTSTART:20240310T020000
TZOFFSETFROM:-0600
TZOFFSETTO:-0500
RDATE:20250309T020000
END:DAYLIGHT
END:VTIMEZONE
BEGIN:VEVENT
UID:03308980-558c-4c28-8a8a-7627610afbe9
DTSTAMP:20260422T094401Z
DESCRIPTION:The 33rd Annual Breakfast Lions Club Tri-Fest 5K Run/Walk benef
 iting Habitat for Humanity of Henderson\, KY will be on Saturday\, April 2
 0\, 2024. This race will take place at Central Park downtown by the riverf
 ront and will start at 8am/cst  rain or shine!  This is a certified 5K rac
 e route with unique and custom-made one-of-a-kind medals and awards given 
 out after the race. \n* Pre-Registration swag bags include a Limited Editi
 on 2024 Tri-Fest 5K shirt\, race bib and some pretty cool items from our a
 wesome sponsors while supplies last! \n**Habitat for Humanity will also be
  hosting the 6th Annual Habi-Tot Trot Kids Dash right before the 5K  @ 7:4
 0 for kids ages 7 and under. Kids registration is only $5 and can be done 
 online or by 7:30am on race day at the Habi-Tot Trot tent. \nRegistration 
 forms can also be emailed by contacting shadley@hendersonhabitat.org or by
  visiting the Habitat Affiliate office or ReStore located at 1030 3rd St\,
  Henderson\, Ky during normal business hours. All funds raised will go tow
 ards building homes and building hope in the community!  If you are intere
 sted in having a booth set up during the race\, volunteering to help with 
 blocking streets for the race or wish to know more about becoming a race s
 ponsor\, please contact Shadley Stone\, Director of Development. \nThank y
 ou and we can’t wait to see you there!\n
DTSTART;TZID=America/Chicago:20240420T070000
DTEND;TZID=America/Chicago:20240420T090000
LOCATION:Central Park\, 10 S. Main St\, Henderson\, KY 42420 US
SUMMARY:33rd Annual Tri-Fest 5K Run
END:VEVENT
END:VCALENDAR
