BEGIN:VCALENDAR
VERSION:2.0
PRODID:-//hendersonhabitat.org//NONSGML kigkonsult.se iCalcreator 2.30.10//
CALSCALE:GREGORIAN
METHOD:PUBLISH
UID:a3f622e4-04b1-4ab3-a3bf-a5ada99c77f4
X-WR-CALDESC:Join us as we break ground on Henderson Habitat home build #83
 !
X-WR-RELCALID:896d65ae41bb2ebca40f567c4aa6839b
X-WR-TIMEZONE:America/Chicago
BEGIN:VTIMEZONE
TZID:America/Chicago
BEGIN:STANDARD
TZNAME:CST
DTSTART:20231105T020000
TZOFFSETFROM:-0500
TZOFFSETTO:-0600
RDATE:20241103T020000
END:STANDARD
BEGIN:DAYLIGHT
TZNAME:CDT
DTSTART:20240310T020000
TZOFFSETFROM:-0600
TZOFFSETTO:-0500
RDATE:20250309T020000
END:DAYLIGHT
END:VTIMEZONE
BEGIN:VEVENT
UID:d521a5a6-3f5d-4184-bc6a-96362ccf0b99
DTSTAMP:20260422T110359Z
DESCRIPTION:Join us as we break ground on Henderson Habitat home build #83!
DTSTART;TZID=America/Chicago:20240312T193000
DTEND;TZID=America/Chicago:20240312T203000
LOCATION:1028 Pringle St\, Henderson\, KY 42420 US
SUMMARY:The Walker Family Groundbreaking #83
END:VEVENT
END:VCALENDAR
