BEGIN:VCALENDAR
VERSION:2.0
PRODID:-//hendersonhabitat.org//NONSGML kigkonsult.se iCalcreator 2.30.10//
CALSCALE:GREGORIAN
METHOD:PUBLISH
UID:3af08c1b-24aa-46cc-83c3-166caaa72026
X-WR-CALDESC:Join us in breaking ground on Henderson Habitat's 85th home bu
 ild for the Parkman Family!
X-WR-RELCALID:8118316b6b31b86a84d31fecd68e1261
X-WR-TIMEZONE:America/Chicago
BEGIN:VTIMEZONE
TZID:America/Chicago
BEGIN:STANDARD
TZNAME:CST
DTSTART:20231105T020000
TZOFFSETFROM:-0500
TZOFFSETTO:-0600
RDATE:20241103T020000
END:STANDARD
BEGIN:DAYLIGHT
TZNAME:CDT
DTSTART:20240310T020000
TZOFFSETFROM:-0600
TZOFFSETTO:-0500
RDATE:20250309T020000
END:DAYLIGHT
END:VTIMEZONE
BEGIN:VEVENT
UID:a0a38a06-0084-4438-846a-9b82019b1262
DTSTAMP:20260422T110732Z
DESCRIPTION:Join us in breaking ground on Henderson Habitat's 85th home bui
 ld for the Parkman Family!
DTSTART;TZID=America/Chicago:20240312T193000
DTEND;TZID=America/Chicago:20240312T203000
LOCATION:1104Burris St\, Henderson\, KY 42420 US
SUMMARY:Parkman Family Groundbreaking Event #85
END:VEVENT
END:VCALENDAR
