BEGIN:VCALENDAR
VERSION:2.0
PRODID:-//hendersonhabitat.org//NONSGML kigkonsult.se iCalcreator 2.30.10//
CALSCALE:GREGORIAN
METHOD:PUBLISH
UID:bae66ff6-7d90-4ebe-a13d-56d0be35a73b
X-WR-CALDESC:Tickets go on sale at midnight\, September 1st\, 2022!  This w
 ill be Henderson Habitat's 7th Ky Bourbon Raffle and we have a fantastic l
 ine-up bourbon and the first 3 prizes come with custom made bourbon items 
 to display the prize collection!  We wanted to add something unique to the
  packages so the winners will have a reminder of what they helped make pos
 sible for so many families!  Mark your calendars now cause we promise you 
 do not want to miss this awesome chance to win and help support affordable
  housing!  If you have any questions or would like more details\, feel fre
 e to check out the link below or give us a call anytime at 270-826-0015. T
 hank you!
X-WR-RELCALID:e1f4e5a3ec03f0c06cbb753a0510e459
X-WR-TIMEZONE:America/Chicago
BEGIN:VTIMEZONE
TZID:America/Chicago
BEGIN:STANDARD
TZNAME:CST
DTSTART:20211107T020000
TZOFFSETFROM:-0500
TZOFFSETTO:-0600
RDATE:20221106T020000
RDATE:20231105T020000
END:STANDARD
BEGIN:DAYLIGHT
TZNAME:CDT
DTSTART:20220313T020000
TZOFFSETFROM:-0600
TZOFFSETTO:-0500
RDATE:20230312T020000
END:DAYLIGHT
END:VTIMEZONE
BEGIN:VEVENT
UID:d5997455-fa5c-44fa-9401-19d4cfa16886
DTSTAMP:20260422T172503Z
DESCRIPTION:Tickets go on sale at midnight\, September 1st\, 2022!  This wi
 ll be Henderson Habitat's 7th Ky Bourbon Raffle and we have a fantastic li
 ne-up bourbon and the first 3 prizes come with custom made bourbon items t
 o display the prize collection!  We wanted to add something unique to the 
 packages so the winners will have a reminder of what they helped make poss
 ible for so many families!  Mark your calendars now cause we promise you d
 o not want to miss this awesome chance to win and help support affordable 
 housing!  If you have any questions or would like more details\, feel free
  to check out the link below or give us a call anytime at 270-826-0015. Th
 ank you!
DTSTART;TZID=America/Chicago:20220901T000000
DTEND;TZID=America/Chicago:20221031T180000
LOCATION:
SUMMARY:2022 Autumn Bourbon Raffle
END:VEVENT
END:VCALENDAR
